BEGIN:VCALENDAR
VERSION:2.0
PRODID:-//John DeSotelle Studio - ECPv6.6.0.2//NONSGML v1.0//EN
CALSCALE:GREGORIAN
METHOD:PUBLISH
X-ORIGINAL-URL:https://desotellestudio.com
X-WR-CALDESC:Events for John DeSotelle Studio
REFRESH-INTERVAL;VALUE=DURATION:PT1H
X-Robots-Tag:noindex
X-PUBLISHED-TTL:PT1H
BEGIN:VTIMEZONE
TZID:America/New_York
BEGIN:DAYLIGHT
TZOFFSETFROM:-0500
TZOFFSETTO:-0400
TZNAME:EDT
DTSTART:20220313T070000
END:DAYLIGHT
BEGIN:STANDARD
TZOFFSETFROM:-0400
TZOFFSETTO:-0500
TZNAME:EST
DTSTART:20221106T060000
END:STANDARD
END:VTIMEZONE
BEGIN:VEVENT
DTSTART;TZID=America/New_York:20220619T183000
DTEND;TZID=America/New_York:20220619T213000
DTSTAMP:20260423T170655
CREATED:20220616T131749Z
LAST-MODIFIED:20220616T132118Z
UID:2691-1655663400-1655674200@desotellestudio.com
SUMMARY:Studio Reading Night - All My Sons
DESCRIPTION:[vc_row][vc_column width=”1/12″][/vc_column][vc_column width=”5/6″]Sunday\, June 19\, 2022Cold Reading Night at the Studio[vc_empty_space alter_height=”none” hide_on_mobile=””][vc_column_text] \nALL MY SONS\nby Arthur Miller \nTruth\, Loyalty\, Wealth\, Love \nConsidered an American classic\, All My Sons by Arthur Miller is a three-act play written in 1946 and set in a small town several years after World War Two. The play takes place\, over its three acts\, in the backyard of the Keller residence. \nAll My Sons is the story of Joe Keller\, who owned a munitions factory with his friend and neighbor. After being charged with shipping defective aircraft engines during World War II\, Joe’s partner was convicted\, but Joe was exonerated. \nThe play explores the Keller family’s complex relationships\, which are burdened with shame\, denial\, guilt\, and grief. \nThe Military-industrial complex versus the American Dream. \n\nFEATURING:   Nancy Wolfe\, Michael Citriniti\, Mickey Pantano\, Jake Lesh\, Serena Miller\, John Rearick\, Chanel Karimkhani\, Lizzie Roberts\, Andrew Walters\, Christopher Oram \n  \n\nSUNDAY\, JUNE 19\, 2022 \nTHE NUBOX at John DeSotelle Studio\n7:00pm START\n6:30pm Meet & Greet \nRSVP please or more information Email: info@desotellestudio.com \n\n\n  \n\n\n\n\nFROM THE STUDIO PARLOR – COLD READING NIGHT \nWhether a classic\, modern\, new work or other performing arts opportunity\, our reading events offer our Studio members\, students and alumni actors an opportunity to get together\, read a play and practice our craft.  This entertaining event is also open to friends\, colleagues and Studio members to enjoy with us. \nWe would love for you to join us! \n\n  \n\n[/vc_column_text][/vc_column][vc_column width=”1/12″][/vc_column][/vc_row]
URL:https://desotellestudio.com/event/studio-reading-night-all-my-sons/
LOCATION:John DeSotelle Studio\, 754 Ninth Avenue\, 3rd & 4th floor\, New York\, NY\, 10019\, United States
CATEGORIES:Events
ORGANIZER;CN="John DeSotelle Studio":MAILTO:jds_news@desotellestudio.com
END:VEVENT
END:VCALENDAR