BEGIN:VCALENDAR
VERSION:2.0
PRODID:-//John DeSotelle Studio - ECPv6.6.0.2//NONSGML v1.0//EN
CALSCALE:GREGORIAN
METHOD:PUBLISH
X-ORIGINAL-URL:https://desotellestudio.com
X-WR-CALDESC:Events for John DeSotelle Studio
REFRESH-INTERVAL;VALUE=DURATION:PT1H
X-Robots-Tag:noindex
X-PUBLISHED-TTL:PT1H
BEGIN:VTIMEZONE
TZID:America/New_York
BEGIN:DAYLIGHT
TZOFFSETFROM:-0500
TZOFFSETTO:-0400
TZNAME:EDT
DTSTART:20220313T070000
END:DAYLIGHT
BEGIN:STANDARD
TZOFFSETFROM:-0400
TZOFFSETTO:-0500
TZNAME:EST
DTSTART:20221106T060000
END:STANDARD
END:VTIMEZONE
BEGIN:VEVENT
DTSTART;TZID=America/New_York:20221120T183000
DTEND;TZID=America/New_York:20221120T213000
DTSTAMP:20260425T105443
CREATED:20221108T200523Z
LAST-MODIFIED:20221108T204823Z
UID:2757-1668969000-1668979800@desotellestudio.com
SUMMARY:Studio Reading Night - God of Carnage
DESCRIPTION:[vc_row][vc_column width=”1/12″][/vc_column][vc_column width=”5/6″]November 20\, 2022Cold Reading Night at the Studio[vc_empty_space alter_height=”none” hide_on_mobile=””][vc_column_text] \nGOD OF CARNAGE\nby Yasmina Reza\ntranslation by Christopher Hampton \nGod of Carnage is a savage\, satirical piece of knifework. \n A playground altercation between eleven-year-old boys brings together two sets of Brooklyn parents for a meeting to resolve the matter. At first\, diplomatic niceties are observed\, but as the meeting progresses\, and the rum flows\, tensions emerge and the gloves come off\, leaving the couples with more than just their liberal principles in tatters.\nSUNDAY\, NOVEMBER 20\, 2022 \nWILLIAMSON ROOM at John DeSotelle Studio\n6:30pm Refreshments \n7:00pm START\n \nRSVP please or more information Email: info@desotellestudio.com \n\n\n  \n\n\n\n\n  \nFROM THE STUDIO PARLOR – COLD READING NIGHT \nWhether a classic\, modern\, new work or other performing arts opportunity\, our reading events offer our Studio members\, students and alumni actors an opportunity to get together\, read a play and practice our craft.\nThis entertaining event is also open to friends\, colleagues and other theater enthusiasts to enjoy with us. \nWe would love for you to join us! \n\n\n  \n  \n\n  \n\n[/vc_column_text][/vc_column][vc_column width=”1/12″][/vc_column][/vc_row]
URL:https://desotellestudio.com/event/studio-reading-night-god-of-carnage/
LOCATION:John DeSotelle Studio\, 754 Ninth Avenue\, 3rd & 4th floor\, New York\, NY\, 10019\, United States
CATEGORIES:Events
ORGANIZER;CN="John DeSotelle Studio":MAILTO:jds_news@desotellestudio.com
END:VEVENT
END:VCALENDAR