BEGIN:VCALENDAR
VERSION:2.0
PRODID:-//John DeSotelle Studio - ECPv6.6.0.2//NONSGML v1.0//EN
CALSCALE:GREGORIAN
METHOD:PUBLISH
X-ORIGINAL-URL:https://desotellestudio.com
X-WR-CALDESC:Events for John DeSotelle Studio
REFRESH-INTERVAL;VALUE=DURATION:PT1H
X-Robots-Tag:noindex
X-PUBLISHED-TTL:PT1H
BEGIN:VTIMEZONE
TZID:America/New_York
BEGIN:DAYLIGHT
TZOFFSETFROM:-0500
TZOFFSETTO:-0400
TZNAME:EDT
DTSTART:20210314T070000
END:DAYLIGHT
BEGIN:STANDARD
TZOFFSETFROM:-0400
TZOFFSETTO:-0500
TZNAME:EST
DTSTART:20211107T060000
END:STANDARD
END:VTIMEZONE
BEGIN:VEVENT
DTSTART;TZID=America/New_York:20210725T190000
DTEND;TZID=America/New_York:20210725T210000
DTSTAMP:20260422T211740
CREATED:20210719T194410Z
LAST-MODIFIED:20210719T194527Z
UID:2468-1627239600-1627246800@desotellestudio.com
SUMMARY:Studio Play Reading Night - Guards at the Taj
DESCRIPTION:[vc_row][vc_column width=”1/12″][/vc_column][vc_column width=”5/6″]Stay at Home and Watch us on ZoomStudio Play Reading Night[vc_empty_space alter_height=”none” hide_on_mobile=””][vc_column_text] \nGUARDS AT THE TAJ\nby Rajiv Joseph\n  \nIn 1648 India\, two Imperial Guards watch from their post as the sun rises for the first time on the newly-completed Taj Mahal—an event that shakes their respective worlds. When they are ordered to perform an unthinkable task\, the aftermath forces them to question the concepts of friendship\, beauty\, and duty\, and changes them forever. \n\nSUNDAY\, JULY 25 \n6:45pm ZOOM ROOM OPENS     7:00pm START \nRSVP please or more information Email: info@desotellestudio.com \nJoin ZOOM LINK Reading \nMeeting ID: 895 9172 7021\nPasscode: meisner \n  \n\n\n\nFEATURING:  Sheikh Niloy and Juancho Rodriquez \nFROM THE STUDIO PARLOR – PLAY READING NIGHT \nWhether a classic\, modern\, new work or other performing arts opportunity\, our reading events offer our Studio members\, students and alumni actors an opportunity to get together\, read a play and practice our craft. This entertaining event is also open to the public\, our friends and colleagues to enjoy with us.\nWe would love for you to join us! \n  \n\n\n[/vc_column_text][/vc_column][vc_column width=”1/12″][/vc_column][/vc_row]
URL:https://desotellestudio.com/event/studio-play-reading-night-guards-at-the-taj/
LOCATION:Zoom Reading
CATEGORIES:Events
ORGANIZER;CN="John DeSotelle Studio":MAILTO:jds_news@desotellestudio.com
END:VEVENT
END:VCALENDAR